Workbook

Sheet Auction-->

Sheet One Buyer
F1: Single Buyer Example
C3: Quantity Demanded: | D3: 6
G4: Seller | K4: Seller Price ($)
G5: ---------------(a)--------------- | K5: ---------------(b)---------------
C7: P - price of the good in the market | H7: S2 | L7: 5 | P7: P - price of the good in the market
C8: Q - Quantity that is bought and sold in the market | H8: S7 | L8: 5 | P8: Q - Quantity that is bought and sold in the market
C9: Who - which sellers sell their good and which buyers purchase the good | H9: S4 | L9: 10 | P9: Who - which sellers sell their good and which buyers purchase the good
H10: S8 | L10: 10
H11: S10 | L11: 15
H12: S5 | L12: 20
H13: S6 | L13: 25
H14: S1 | L14: 30
H15: S3 | L15: 50
H16: S9 | L16: 50

Sheet Multiple Buyers-->

Sheet Sellers
F1: Auction Example
G4: Seller | K4: Seller Price ($)
G5: ---------------(a)--------------- | K5: ---------------(b)---------------
C7: P - price of the good in the market | H7: A | L7: 100
C8: Q - Quantity that is bought and sold in the market | H8: B | L8: 105
C9: Who - which sellers sell their good and which buyers purchase the good | H9: C | L9: 90
H10: D | L10: 95
H11: E | L11: 90
H12: F | L12: 110

Sheet Buyers
F1: Auction Example
G4: Buyer | K4: Buyer Price ($)
G5: ---------------(a)--------------- | K5: ---------------(b)---------------
C7: P - price of the good in the market | H7: U | L7: 85
C8: Q - Quantity that is bought and sold in the market | H8: V | L8: 110
C9: Who - which sellers sell their good and which buyers purchase the good | H9: W | L9: 100
H10: X | L10: 115
H11: Y | L11: 95
H12: Z | L12: 100

Sheet Sellers and Buyers
E1: Auction Example
F4: Seller | J4: Seller Price ($) | N4: Buyer | R4: Buyer Price ($)
F5: ---------------(a)--------------- | J5: ---------------(b)--------------- | N5: ---------------(c)--------------- | R5: ---------------(d)---------------
B7: P - price of the good in the market | G7: C | K7: 90 | O7: X | S7: 115
B8: Q - Quantity that is bought and sold in the market | G8: E | K8: 90 | O8: V | S8: 110
B9: Who - which sellers sell their good and which buyers purchase the good | G9: D | K9: 95 | O9: W | S9: 100
G10: A | K10: 100 | O10: Z | S10: 100
G11: B | K11: 105 | O11: Y | S11: 95
G12: F | K12: 110 | O12: U | S12: 85

Sheet Solution
A1: Auction Example
B4: Rank | F4: Sellers Price ($) | J4: Buyer Price ($)
B5: ---------------(a)--------------- | F5: ---------------(b)--------------- | J5: ---------------(c)---------------
C7: 1 | G7: 90 | K7: 115
C8: 2 | G8: 90 | K8: 110
C9: 3 | G9: 95 | K9: 100
C10: 4 | G10: 100 | K10: 100
C11: 5 | G11: 105 | K11: 95
C12: 6 | G12: 110 | K12: 85

Sheet Backup-->

Sheet Plot Data
A1: P | B1: Supply | C1: Demand | E1: P | F1: Supply | G1: Demand
A2: 85 | B2: =COUNTIF(Sellers!$L$7:$L$12,"<="&'Plot Data'!A2) -> 0 | C2: =COUNTIF(Buyers!$L$7:$L$12,">="&'Plot Data'!A2) -> 6 | E2: 0 | F2: 0 | G2: 6
A3: 90 | B3: =COUNTIF(Sellers!$L$7:$L$12,"<="&'Plot Data'!A3) -> 2 | C3: =COUNTIF(Buyers!$L$7:$L$12,">="&'Plot Data'!A3) -> 5 | E3: 5 | F3: =COUNTIF('One Buyer'!$L$7:$L$24,"<="&'Plot Data'!E3) -> 2 | G3: 6
A4: 95 | B4: =COUNTIF(Sellers!$L$7:$L$12,"<="&'Plot Data'!A4) -> 3 | C4: =COUNTIF(Buyers!$L$7:$L$12,">="&'Plot Data'!A4) -> 5 | E4: 5 | F4: =COUNTIF('One Buyer'!$L$7:$L$24,"<="&'Plot Data'!E4) -> 2 | G4: 6
A5: 100 | B5: =COUNTIF(Sellers!$L$7:$L$12,"<="&'Plot Data'!A5) -> 4 | C5: =COUNTIF(Buyers!$L$7:$L$12,">="&'Plot Data'!A5) -> 4 | E5: 10 | F5: =COUNTIF('One Buyer'!$L$7:$L$24,"<="&'Plot Data'!E5) -> 4 | G5: 6
A6: 105 | B6: =COUNTIF(Sellers!$L$7:$L$12,"<="&'Plot Data'!A6) -> 5 | C6: =COUNTIF(Buyers!$L$7:$L$12,">="&'Plot Data'!A6) -> 2 | E6: 10 | F6: =COUNTIF('One Buyer'!$L$7:$L$24,"<="&'Plot Data'!E6) -> 4 | G6: 6
A7: 110 | B7: =COUNTIF(Sellers!$L$7:$L$12,"<="&'Plot Data'!A7) -> 6 | C7: =COUNTIF(Buyers!$L$7:$L$12,">="&'Plot Data'!A7) -> 2 | E7: 15 | F7: =COUNTIF('One Buyer'!$L$7:$L$24,"<="&'Plot Data'!E7) -> 5 | G7: 6
A8: 115 | B8: =COUNTIF(Sellers!$L$7:$L$12,"<="&'Plot Data'!A8) -> 6 | C8: =COUNTIF(Buyers!$L$7:$L$12,">="&'Plot Data'!A8) -> 1 | E8: 20 | F8: =COUNTIF('One Buyer'!$L$7:$L$24,"<="&'Plot Data'!E8) -> 6 | G8: 6
E9: 25 | F9: =COUNTIF('One Buyer'!$L$7:$L$24,"<="&'Plot Data'!E9) -> 7 | G9: 6
E10: 30 | F10: =COUNTIF('One Buyer'!$L$7:$L$24,"<="&'Plot Data'!E10) -> 8 | G10: 6
E11: 50 | F11: =COUNTIF('One Buyer'!$L$7:$L$24,"<="&'Plot Data'!E11) -> 10 | G11: 6
E12: 50 | F12: =COUNTIF('One Buyer'!$L$7:$L$24,"<="&'Plot Data'!E12) -> 10 | G12: 6
E13: 60 | F13: =COUNTIF('One Buyer'!$L$7:$L$24,"<="&'Plot Data'!E13) -> 10 | G13: 6
